BEGIN:VCALENDAR
VERSION:2.0
PRODID:-//ALS Malta - ECPv5.7.0//NONSGML v1.0//EN
CALSCALE:GREGORIAN
METHOD:PUBLISH
X-WR-CALNAME:ALS Malta
X-ORIGINAL-URL:https://alsmalta.org
X-WR-CALDESC:Events for ALS Malta
BEGIN:VTIMEZONE
TZID:Europe/Helsinki
BEGIN:DAYLIGHT
TZOFFSETFROM:+0200
TZOFFSETTO:+0300
TZNAME:EEST
DTSTART:20210328T010000
END:DAYLIGHT
BEGIN:STANDARD
TZOFFSETFROM:+0300
TZOFFSETTO:+0200
TZNAME:EET
DTSTART:20211031T010000
END:STANDARD
END:VTIMEZONE
BEGIN:VEVENT
DTSTART;TZID=Europe/Helsinki:20211120T090000
DTEND;TZID=Europe/Helsinki:20211121T190000
DTSTAMP:20260420T151333
CREATED:20211104T134902Z
LAST-MODIFIED:20211104T134902Z
UID:5558-1637398800-1637521200@alsmalta.org
SUMMARY:Mega XMAS Art Sale - in aid of ALS Malta & DAR Bjorn
DESCRIPTION:After the massive success of the last Mega Art Sale\, we are giving the possibility to acquire some new pieces at incredible prices.\nCome and grab your bargain! Get your unique Christmas gift or buy a special gift for your friends.\nThis art sale will feature Mark Mallia\, Dag Art\, Pauleen Micallef\, Joanne Mizzi\, Etienne Farell\, Francis Gauci\, and the last unique art pieces from Ed Schembri and Clemens.\nAll in aid of ALS Malta and DAR Bjorn Projects.
URL:https://alsmalta.org/event/mega-xmas-art-sale-in-aid-of-als-malta-dar-bjorn/
LOCATION:DAR Bjorn Qormi\, Dar Bjorn\, 308 Triq Il-Kbira\, Ħal Qormi\, Please select between Malta or Gozo.\, QRM1105\, Malta
CATEGORIES:Events
ATTACH;FMTTYPE=image/jpeg:https://alsmalta.org/wp-content/uploads/2021/11/MEGAXMAS.jpg
END:VEVENT
END:VCALENDAR