BEGIN:VCALENDAR
VERSION:2.0
PRODID:-//ALS Malta - ECPv5.7.0//NONSGML v1.0//EN
CALSCALE:GREGORIAN
METHOD:PUBLISH
X-WR-CALNAME:ALS Malta
X-ORIGINAL-URL:https://alsmalta.org
X-WR-CALDESC:Events for ALS Malta
BEGIN:VTIMEZONE
TZID:Europe/Helsinki
BEGIN:DAYLIGHT
TZOFFSETFROM:+0200
TZOFFSETTO:+0300
TZNAME:EEST
DTSTART:20210328T010000
END:DAYLIGHT
BEGIN:STANDARD
TZOFFSETFROM:+0300
TZOFFSETTO:+0200
TZNAME:EET
DTSTART:20211031T010000
END:STANDARD
END:VTIMEZONE
BEGIN:VEVENT
DTSTART;VALUE=DATE:20210703
DTEND;VALUE=DATE:20210705
DTSTAMP:20260424T121549
CREATED:20210617T130552Z
LAST-MODIFIED:20210617T130552Z
UID:4503-1625270400-1625443199@alsmalta.org
SUMMARY:MEGA ALS ART SALE - The Return ft. Mallia
DESCRIPTION:The MEGA ALS Art SALE in aid of ALS Malta IS BACK at DAR Bjorn!\nUnique Collection by several top Maltese artists;\n\n\nMark Mallia\nE. Farrell\nClemens\nEd Schembri\nDag Art\nJoanne Mizzi\nand more\n\nThe Art Exhibition will be open on these dates: 3rd & 4th July 2021;\n\nSaturday 9am till 7pm\nSunday 9am till 6pm\n\nWide range of prices with huge pieces selling at incredible prices!\nCome get your unique masterpiece\, visit DAR Bjorn and help such a great cause!
URL:https://alsmalta.org/event/mega-als-art-sale-the-return-ft-mallia/
LOCATION:DAR Bjorn Qormi\, Dar Bjorn\, 308 Triq Il-Kbira\, Ħal Qormi\, Please select between Malta or Gozo.\, QRM1105\, Malta
CATEGORIES:Events
ATTACH;FMTTYPE=image/png:https://alsmalta.org/wp-content/uploads/2021/06/SAVE-THE-DATE.png
END:VEVENT
END:VCALENDAR