BEGIN:VCALENDAR
VERSION:2.0
PRODID:-//ALS Malta - ECPv5.7.0//NONSGML v1.0//EN
CALSCALE:GREGORIAN
METHOD:PUBLISH
X-WR-CALNAME:ALS Malta
X-ORIGINAL-URL:https://alsmalta.org
X-WR-CALDESC:Events for ALS Malta
BEGIN:VTIMEZONE
TZID:Europe/Helsinki
BEGIN:DAYLIGHT
TZOFFSETFROM:+0200
TZOFFSETTO:+0300
TZNAME:EEST
DTSTART:20220327T010000
END:DAYLIGHT
BEGIN:STANDARD
TZOFFSETFROM:+0300
TZOFFSETTO:+0200
TZNAME:EET
DTSTART:20221030T010000
END:STANDARD
BEGIN:DAYLIGHT
TZOFFSETFROM:+0200
TZOFFSETTO:+0300
TZNAME:EEST
DTSTART:20230326T010000
END:DAYLIGHT
BEGIN:STANDARD
TZOFFSETFROM:+0300
TZOFFSETTO:+0200
TZNAME:EET
DTSTART:20231029T010000
END:STANDARD
BEGIN:DAYLIGHT
TZOFFSETFROM:+0200
TZOFFSETTO:+0300
TZNAME:EEST
DTSTART:20240331T010000
END:DAYLIGHT
BEGIN:STANDARD
TZOFFSETFROM:+0300
TZOFFSETTO:+0200
TZNAME:EET
DTSTART:20241027T010000
END:STANDARD
BEGIN:DAYLIGHT
TZOFFSETFROM:+0200
TZOFFSETTO:+0300
TZNAME:EEST
DTSTART:20250330T010000
END:DAYLIGHT
BEGIN:STANDARD
TZOFFSETFROM:+0300
TZOFFSETTO:+0200
TZNAME:EET
DTSTART:20251026T010000
END:STANDARD
END:VTIMEZONE
BEGIN:VEVENT
DTSTART;TZID=Europe/Helsinki:20220925T120000
DTEND;TZID=Europe/Helsinki:20220925T233000
DTSTAMP:20260424T121642
CREATED:20220225T102959Z
LAST-MODIFIED:20220225T102959Z
UID:5604-1664107200-1664148600@alsmalta.org
SUMMARY:25th September - Helping More
DESCRIPTION:The new service that ALS Malta+ is working on is; DAR Bjorn Respite. This will be an extension of DAR Bjorn Żebbuġ where patients will receive care and help for a defined number of days. Despite the small geography that Malta has\, there are still patients that require such services.  \nALS Malta+ will be producing another telethon so that this extension can become a reality; DAR Bjorn Respite. The telethon will be held on Sunday\, 25th September on local television stations.  \nThis will all be possible\, thanks to all Maltese that donated in previous years and will continue to support Bjorn and ALS Malta+. This is the reason why Bjorn and the ALS Malta+ team will be helping more.  \nYou can donate via www.alsmalta.org/donate \, send an SMS (€11.65) on 50619271 or use BOV Mobile pay via 79096249.
URL:https://alsmalta.org/event/25th-september-helping-more/
LOCATION:WE Studios\, Malta
CATEGORIES:Events
ATTACH;FMTTYPE=image/png:https://alsmalta.org/wp-content/uploads/2022/02/ALS-Malta-Plus-Rebranding-RGB_Part6-01.png
END:VEVENT
BEGIN:VEVENT
DTSTART;TZID=Europe/Helsinki:20230924T120000
DTEND;TZID=Europe/Helsinki:20230924T233000
DTSTAMP:20260424T121642
CREATED:20230523T120655Z
LAST-MODIFIED:20230523T120655Z
UID:6298-1695556800-1695598200@alsmalta.org
SUMMARY:24th September - Il-Mirakli Jsiru
DESCRIPTION:ALS Malta has scheduled its annual telethon for September 24th\, with the objective of gathering additional funds for the DAR Bjorn Respite project. The primary goal of this project is to offer temporary accommodations for neurological patients when their family members are unable to provide care due to circumstances such as undergoing a medical procedure. ALS Malta is dedicated to supporting over 300 patients in Malta by offering complimentary physiotherapy and counseling services.
URL:https://alsmalta.org/event/24th-september-il-mirakli-jsiru/
CATEGORIES:Events
ATTACH;FMTTYPE=image/gif:https://alsmalta.org/wp-content/uploads/2023/05/xRdWWt1C_Maratona-2023_il-Mirakli-jsiru_Online-banners_vv-7-1.gif
END:VEVENT
BEGIN:VEVENT
DTSTART;TZID=Europe/Helsinki:20240922T120000
DTEND;TZID=Europe/Helsinki:20240922T233000
DTSTAMP:20260424T121642
CREATED:20240409T101709Z
LAST-MODIFIED:20240409T101709Z
UID:6494-1727006400-1727047800@alsmalta.org
SUMMARY:22nd September - Sal-aħħar nifs
DESCRIPTION:ALS Malta has scheduled its annual telethon for September 22nd\, with the objective of gathering additional funds for the DAR Bjorn Respite project. The primary goal of this project is to offer temporary accommodations for neurological patients when their family members are unable to provide care due to circumstances such as undergoing a medical procedure. ALS Malta is dedicated to supporting over 400 patients in Malta by offering complimentary physiotherapy and counseling services.
URL:https://alsmalta.org/event/22nd-september-sal-ahhar-nifs/
LOCATION:WE Studios\, Malta
ATTACH;FMTTYPE=image/jpeg:https://alsmalta.org/wp-content/uploads/2024/04/Sa-l-ahhar-nifs_chosen_FB-Insta-Post.jpg
END:VEVENT
BEGIN:VEVENT
DTSTART;TZID=Europe/Helsinki:20250831T120000
DTEND;TZID=Europe/Helsinki:20250831T233000
DTSTAMP:20260424T121642
CREATED:20250820T074453Z
LAST-MODIFIED:20250820T074453Z
UID:6982-1756641600-1756683000@alsmalta.org
SUMMARY:31st August - Miegħek Jien!
DESCRIPTION:Miegħek Jien is the official theme for this year’s Dar Bjorn Telethon\, a heartfelt campaign that brings together the Maltese community in support of ALS\, MND and other neurodegenerative conditions. The phrase Miegħek Jien (“I am with you”) captures the spirit of solidarity\, love and strength that surrounds Bjorn Formosa and the residents of DAR Bjorn. \nThis year’s Telethon will take place on Sunday\, 31st August 2025\, with a full day of live broadcasting\, entertainment\, real-life stories\, and moments of hope\, all aimed at raising the funds needed to continue expanding the free care services offered at DAR Bjorn. \nHow you can helpYour donation will directly support patients and families who rely on DAR Bjorn. Every contribution\, small or big\, makes a real difference.
URL:https://alsmalta.org/event/31st-august-mieghek-jien/
LOCATION:Studio 7\, Malta
CATEGORIES:Donations,Events
ATTACH;FMTTYPE=image/jpeg:https://alsmalta.org/wp-content/uploads/2025/06/Mieghek-Jien_Online-ads_300x250px.jpg
END:VEVENT
END:VCALENDAR